BEGIN:VCALENDAR
VERSION:2.0
PRODID:-//Ondernemersvereniging OVB - ECPv6.3.3.1//NONSGML v1.0//EN
CALSCALE:GREGORIAN
METHOD:PUBLISH
X-ORIGINAL-URL:https://ondernemersvereniging-ovb.nl
X-WR-CALDESC:Evenementen voor Ondernemersvereniging OVB
REFRESH-INTERVAL;VALUE=DURATION:PT1H
X-Robots-Tag:noindex
X-PUBLISHED-TTL:PT1H
BEGIN:VTIMEZONE
TZID:Europe/Amsterdam
BEGIN:DAYLIGHT
TZOFFSETFROM:+0100
TZOFFSETTO:+0200
TZNAME:CEST
DTSTART:20260329T010000
END:DAYLIGHT
BEGIN:STANDARD
TZOFFSETFROM:+0200
TZOFFSETTO:+0100
TZNAME:CET
DTSTART:20261025T010000
END:STANDARD
END:VTIMEZONE
BEGIN:VEVENT
DTSTART;TZID=Europe/Amsterdam:20260120T160000
DTEND;TZID=Europe/Amsterdam:20260120T190000
DTSTAMP:20260419T160606
CREATED:20251202T104717Z
LAST-MODIFIED:20251210T092430Z
UID:2999-1768924800-1768935600@ondernemersvereniging-ovb.nl
SUMMARY:Uitnodiging nieuwjaarsbijeenkomst – gezamenlijke Zwolse bedrijventerreinen
DESCRIPTION:Namens de besturen van Ondernemersvereniging Het Blauwe Hart\, Ondernemersclub Marslanden\, Ondernemersvereniging Hessenpoort en Ondernemersvereniging Voorst nodigen wij u van harte uit voor de gezamenlijke nieuwjaarsbijeenkomst 2026. \nAls ondernemers op de bedrijventerreinen in Zwolle hechten we er waarde aan elkaar regelmatig te ontmoeten en nader kennis te maken. Ook ondernemers die (nog) geen lid zijn van een ondernemersvereniging\, maar wel gevestigd zijn op één van de terreinen zijn van harte welkom. \nWij zijn verheugd dat wethouder Paul Guldemond aanwezig zal zijn. Tijdens de bijeenkomst willen we graag gezamenlijk het glas heffen op een succesvol nieuw jaar. U en uw collega’s zijn van harte uitgenodigd! \nDatum: dinsdag 20 januari 2026\nLocatie: Business Loge van PEC Zwolle (onderdeel van Lumen Hotel & Events)\nInloop: 16.00 uur\nAanvang programma: 16.30 uur \nAanmelden\nIn verband met de praktische organisatie verzoeken wij u zich uiterlijk vrijdag 16 januari aan te melden via de aanmeldbutton. Hartelijk dank! \nWe hopen u tijdens deze nieuwjaarsbijeenkomst te mogen begroeten.\nNamens de besturen wensen wij u alvast hele fijne kerstdagen en een voorspoedig 2026! \nMomenteel geregistreerdBerber Schermerhorn\, Transitiemakers Rinette Van der Vliet\, Vereniging Openluchtbad Zwolle Mandy Sun - Eten & Zo Zwolle Michiel Prins Hospice Zwolle Evert aan het Rot / Van Ree Accountants Ronald Knoll -Raeth Maarten de Waart - Krachtcentrale Laura van de Haterd | Lumen Hotel & Events Ciska Esselink Goos Beheer BV René Drost - Bureau HTM Monique Dijkstra Klaas Haasjes / Spijkeropzijnkop Henrik Wagter - AniCura de Tweede Lijn Tim Jansen\, Jansen Vastgoed Hedwig Duteweerd-Tjeerds Gemeente Zwolle Francine Meijerink + FMconnect Erwin De Graauw van CombiCraft bv Willem Tap / DAKA sport Wouter Heres kiloWattbuur Chris Lindeboom Edwin Stappenbelt.bike Frans Jan De Vleeschouwer Terwolde Zwolle BV Renault en Dacia dealer Marco van Driel Dinand Veurink + Breman Utiliteit Zwolle bv Rutger Wuite - 10HOOG Bedrijfsmakelaars Daniël Kroese Lianne Booijink Ronald McDonald Huis Zwolle Sander Buiter Joost Broerse - PEC Zwolle Berry Leerentveld + parkmanager OVB Chris Boeren\, Transitiemakers Charly Cai - Bowlen & Zo Carola Schoemaker PEC Zwolle Dianne van den Heuvel / van Ree Accountants Richard van Dam Rick Roos / Daka Sport Dirk van de Worp Peppergym Arnold Helfrich Jonathan Kleine Rodenburg Makelaars Fikret Akin - Brand for Life Jolanda van der Veer - SportService Zwolle Thomas van der Staak\, Landstede Hadaf El Hamdouni Tiem Kemal Aktepe\, Tradeport Irma Ter Bogt - gemeente Zwolle Michel Overdijk - Devcon Solarworks Jan Nabers (CDA Zwolle) Paul Berends Countus Nick Buitenhuis - E&CO Sander Terpstra 10HOOG Bedrijfsmakelaars Eric Haasjes Jos Langenkamp Stern Partyservice Leontine Maas Sjoerd-Jan Feenstra\, McDonald`s Zwolle Rick Kerssies + Breman Utiliteit Zwolle bv Jeroen Stegeman | De Buurman Rens van Gurp\, Shift to Solar Paul Winkel\, Advocatenkantoor Winkel Eilt Staal - Regio Zwolle United
URL:https://ondernemersvereniging-ovb.nl/evenementen/gezamenlijke-nieuwjaarsborrel-ondernemersverenigingen/
LOCATION:Hotel Lumen\, Stadionplein 20\, Zwolle\, 8025 CP
CATEGORIES:bijeenkomst
ATTACH;FMTTYPE=image/jpeg:https://ondernemersvereniging-ovb.nl/wp-content/uploads/2025/05/OVB-algemene-ledenvergadering-2025-1.jpg
ORGANIZER;CN="Het Blauwe Hart":MAILTO:info@hetblauwehart.nu
END:VEVENT
END:VCALENDAR